Workbook
Name InventoryItemCodes: '재고 현황'!$A$6:$A$105

Sheet 재고 현황
A1: 재 고 관 리 대 장
A2: 노란색 셀에 품목 기본정보와 기초재고를 입력하면, 입출고 내역을 기준으로 현재고와 재고상태가 자동 계산됩니다.
A3: 관리 품목 수 | C3: =COUNTIF(A6:A105,"<>") | E3: 발주 필요 품목 | G3: =COUNTIF(I6:I105,"발주 필요") | I3: 전체 재고수량 | K3: =SUM(H6:H105)
A5: 품목코드 | B5: 분류 | C5: 품명 | D5: 규격 | E5: 단위 | F5: 안전재고 | G5: 기초재고 | H5: 현재고 | I5: 재고상태 | J5: 보관위치 | K5: 관리담당 | L5: 비고
H6: =IF($A6="","",$G6+SUMIFS('입출고 내역'!$H$6:$H$505,'입출고 내역'!$D$6:$D$505,$A6)-SUMIFS('입출고 내역'!$I$6:$I$505,'입출고 내역'!$D$6:$D$505,$A6)+SUMIFS('입출고 내역'!$J$6:$J$505,'입출고 내역'!$D$6:$D$505,$A6)) | I6: =IF($A6="","",IF($H6<0,"재고 부족",IF($H6<=$F6,"발주 필요","정상")))
H7: =IF($A7="","",$G7+SUMIFS('입출고 내역'!$H$6:$H$505,'입출고 내역'!$D$6:$D$505,$A7)-SUMIFS('입출고 내역'!$I$6:$I$505,'입출고 내역'!$D$6:$D$505,$A7)+SUMIFS('입출고 내역'!$J$6:$J$505,'입출고 내역'!$D$6:$D$505,$A7)) | I7: =IF($A7="","",IF($H7<0,"재고 부족",IF($H7<=$F7,"발주 필요","정상")))
H8: =IF($A8="","",$G8+SUMIFS('입출고 내역'!$H$6:$H$505,'입출고 내역'!$D$6:$D$505,$A8)-SUMIFS('입출고 내역'!$I$6:$I$505,'입출고 내역'!$D$6:$D$505,$A8)+SUMIFS('입출고 내역'!$J$6:$J$505,'입출고 내역'!$D$6:$D$505,$A8)) | I8: =IF($A8="","",IF($H8<0,"재고 부족",IF($H8<=$F8,"발주 필요","정상")))
H9: =IF($A9="","",$G9+SUMIFS('입출고 내역'!$H$6:$H$505,'입출고 내역'!$D$6:$D$505,$A9)-SUMIFS('입출고 내역'!$I$6:$I$505,'입출고 내역'!$D$6:$D$505,$A9)+SUMIFS('입출고 내역'!$J$6:$J$505,'입출고 내역'!$D$6:$D$505,$A9)) | I9: =IF($A9="","",IF($H9<0,"재고 부족",IF($H9<=$F9,"발주 필요","정상")))
H10: =IF($A10="","",$G10+SUMIFS('입출고 내역'!$H$6:$H$505,'입출고 내역'!$D$6:$D$505,$A10)-SUMIFS('입출고 내역'!$I$6:$I$505,'입출고 내역'!$D$6:$D$505,$A10)+SUMIFS('입출고 내역'!$J$6:$J$505,'입출고 내역'!$D$6:$D$505,$A10)) | I10: =IF($A10="","",IF($H10<0,"재고 부족",IF($H10<=$F10,"발주 필요","정상")))
H11: =IF($A11="","",$G11+SUMIFS('입출고 내역'!$H$6:$H$505,'입출고 내역'!$D$6:$D$505,$A11)-SUMIFS('입출고 내역'!$I$6:$I$505,'입출고 내역'!$D$6:$D$505,$A11)+SUMIFS('입출고 내역'!$J$6:$J$505,'입출고 내역'!$D$6:$D$505,$A11)) | I11: =IF($A11="","",IF($H11<0,"재고 부족",IF($H11<=$F11,"발주 필요","정상")))
H12: =IF($A12="","",$G12+SUMIFS('입출고 내역'!$H$6:$H$505,'입출고 내역'!$D$6:$D$505,$A12)-SUMIFS('입출고 내역'!$I$6:$I$505,'입출고 내역'!$D$6:$D$505,$A12)+SUMIFS('입출고 내역'!$J$6:$J$505,'입출고 내역'!$D$6:$D$505,$A12)) | I12: =IF($A12="","",IF($H12<0,"재고 부족",IF($H12<=$F12,"발주 필요","정상")))
H13: =IF($A13="","",$G13+SUMIFS('입출고 내역'!$H$6:$H$505,'입출고 내역'!$D$6:$D$505,$A13)-SUMIFS('입출고 내역'!$I$6:$I$505,'입출고 내역'!$D$6:$D$505,$A13)+SUMIFS('입출고 내역'!$J$6:$J$505,'입출고 내역'!$D$6:$D$505,$A13)) | I13: =IF($A13="","",IF($H13<0,"재고 부족",IF($H13<=$F13,"발주 필요","정상")))
H14: =IF($A14="","",$G14+SUMIFS('입출고 내역'!$H$6:$H$505,'입출고 내역'!$D$6:$D$505,$A14)-SUMIFS('입출고 내역'!$I$6:$I$505,'입출고 내역'!$D$6:$D$505,$A14)+SUMIFS('입출고 내역'!$J$6:$J$505,'입출고 내역'!$D$6:$D$505,$A14)) | I14: =IF($A14="","",IF($H14<0,"재고 부족",IF($H14<=$F14,"발주 필요","정상")))
H15: =IF($A15="","",$G15+SUMIFS('입출고 내역'!$H$6:$H$505,'입출고 내역'!$D$6:$D$505,$A15)-SUMIFS('입출고 내역'!$I$6:$I$505,'입출고 내역'!$D$6:$D$505,$A15)+SUMIFS('입출고 내역'!$J$6:$J$505,'입출고 내역'!$D$6:$D$505,$A15)) | I15: =IF($A15="","",IF($H15<0,"재고 부족",IF($H15<=$F15,"발주 필요","정상")))
H16: =IF($A16="","",$G16+SUMIFS('입출고 내역'!$H$6:$H$505,'입출고 내역'!$D$6:$D$505,$A16)-SUMIFS('입출고 내역'!$I$6:$I$505,'입출고 내역'!$D$6:$D$505,$A16)+SUMIFS('입출고 내역'!$J$6:$J$505,'입출고 내역'!$D$6:$D$505,$A16)) | I16: =IF($A16="","",IF($H16<0,"재고 부족",IF($H16<=$F16,"발주 필요","정상")))
H17: =IF($A17="","",$G17+SUMIFS('입출고 내역'!$H$6:$H$505,'입출고 내역'!$D$6:$D$505,$A17)-SUMIFS('입출고 내역'!$I$6:$I$505,'입출고 내역'!$D$6:$D$505,$A17)+SUMIFS('입출고 내역'!$J$6:$J$505,'입출고 내역'!$D$6:$D$505,$A17)) | I17: =IF($A17="","",IF($H17<0,"재고 부족",IF($H17<=$F17,"발주 필요","정상")))
... H105: =IF($A105="","",$G105+SUMIFS('입출고 내역'!$H$6:$H$505,'입출고 내역'!$D$6:$D$505,$A105)-SUMIFS('입출고 내역'!$I$6:$I$505,'입출고 내역'!$D$6:$D$505,$A105)+SUMIFS('입출고 내역'!$J$6:$J$505,'입출고 내역'!$D$6:$D$505,$A105)) | I105: =IF($A105="","",IF($H105<0,"재고 부족",IF($H105<=$F105,"발주 필요","정상")))

Sheet 입출고 내역
A1: 입 출 고 내 역
A2: 입고·출고·재고조정 건을 한 행씩 기록합니다. 품목코드는 “재고 현황” 시트에 등록한 코드 중에서 선택할 수 있습니다.
A3: 입력 기준 | 입고: 입고수량만 입력 / 출고: 출고수량만 입력 / 조정: 증감 수량을 조정수량에 입력(감소는 음수)
A5: No. | B5: 처리일 | C5: 구분 | D5: 품목코드 | E5: 품명 | F5: 규격 | G5: 단위 | H5: 입고수량 | I5: 출고수량 | J5: 조정수량 | K5: 단가 | L5: 금액 | M5: 재고 위치 | N5: 거래처 / 사용부서 | O5: 담당자 | P5: 비고
A6: =IF(B6="","",ROW()-5) | L6: =IF(OR($K6="",SUM($H6:$I6)=0),"",SUM($H6:$I6)*$K6)
A7: =IF(B7="","",ROW()-5) | L7: =IF(OR($K7="",SUM($H7:$I7)=0),"",SUM($H7:$I7)*$K7)
A8: =IF(B8="","",ROW()-5) | L8: =IF(OR($K8="",SUM($H8:$I8)=0),"",SUM($H8:$I8)*$K8)
A9: =IF(B9="","",ROW()-5) | L9: =IF(OR($K9="",SUM($H9:$I9)=0),"",SUM($H9:$I9)*$K9)
A10: =IF(B10="","",ROW()-5) | L10: =IF(OR($K10="",SUM($H10:$I10)=0),"",SUM($H10:$I10)*$K10)
A11: =IF(B11="","",ROW()-5) | L11: =IF(OR($K11="",SUM($H11:$I11)=0),"",SUM($H11:$I11)*$K11)
A12: =IF(B12="","",ROW()-5) | L12: =IF(OR($K12="",SUM($H12:$I12)=0),"",SUM($H12:$I12)*$K12)
A13: =IF(B13="","",ROW()-5) | L13: =IF(OR($K13="",SUM($H13:$I13)=0),"",SUM($H13:$I13)*$K13)
A14: =IF(B14="","",ROW()-5) | L14: =IF(OR($K14="",SUM($H14:$I14)=0),"",SUM($H14:$I14)*$K14)
A15: =IF(B15="","",ROW()-5) | L15: =IF(OR($K15="",SUM($H15:$I15)=0),"",SUM($H15:$I15)*$K15)
A16: =IF(B16="","",ROW()-5) | L16: =IF(OR($K16="",SUM($H16:$I16)=0),"",SUM($H16:$I16)*$K16)
A17: =IF(B17="","",ROW()-5) | L17: =IF(OR($K17="",SUM($H17:$I17)=0),"",SUM($H17:$I17)*$K17)
... A505: =IF(B505="","",ROW()-5) | L505: =IF(OR($K505="",SUM($H505:$I505)=0),"",SUM($H505:$I505)*$K505)

Sheet 작성 안내
A1: 재고관리대장 사용 안내
A3: 본 서식은 품목별 현재고를 자동으로 계산하기 위한 기본 재고관리대장입니다. 노란색 셀을 중심으로 입력하고, 파란색 셀의 값과 상태는 자동 계산됩니다.
A5: 순서 | B5: 작업 | C5: 입력 위치 | D5: 작성 방법 | E5: 확인 사항 | F5: 비고
A6: 1 | B6: 품목 등록 | C6: 재고 현황 | D6: 품목코드, 품명, 규격, 단위, 안전재고, 기초재고를 입력합니다. | E6: 품목코드는 중복 없이 작성합니다. | F6: 필수
A7: 2 | B7: 입출고 기록 | C7: 입출고 내역 | D7: 처리일, 구분, 품목코드 및 입고·출고·조정 수량을 입력합니다. | E7: 입고와 출고 수량은 한 행에 하나만 입력합니다. | F7: 수시
A8: 3 | B8: 재고 확인 | C8: 재고 현황 | D8: 현재고와 재고상태를 확인합니다. | E8: 현재고는 기초재고와 입출고 내역을 합산하여 자동 계산됩니다. | F8: 자동
A9: 4 | B9: 발주 점검 | C9: 재고 현황 | D9: 재고상태가 “발주 필요” 또는 “재고 부족”인 품목을 우선 검토합니다. | E9: 안전재고는 운영 기준에 맞게 정기적으로 조정합니다. | F9: 정기
A10: 5 | B10: 재고 조정 | C10: 입출고 내역 | D10: 실사 차이가 발생하면 구분을 “조정”으로 선택하고 조정수량에 증감값을 입력합니다. | E10: 감소 조정은 음수로 입력합니다. | F10: 필요 시
A13: 유의사항 | 각 품목의 품목코드는 변경하지 않는 것을 권장합니다. 품목코드를 변경할 경우 기존 입출고 내역과의 연결이 끊어질 수 있습니다.
